BEGIN:VCALENDAR
VERSION:2.0
CALSCALE:GREGORIAN
BEGIN:VEVENT
DTSTART;TZID=Europe/Berlin:20220929T143000
DTEND;TZID=Europe/Berlin:20220930T000000
SUMMARY:Feierliche Immatrikulation 2022
DESCRIPTION:Hier finden unsere Erstsemester die wichtigsten Informationen zu ihrer feierlichen Immatrikulation an der Hochschule Zittau/ Görlitz für das Wintersemester 2022/23.
END:VEVENT
END:VCALENDAR