BEGIN:VCALENDAR
VERSION:2.0
CALSCALE:GREGORIAN
BEGIN:VEVENT
DTSTART;TZID=Europe/Berlin:20240424T143000
DTEND;TZID=Europe/Berlin:20240425T000000
SUMMARY:Informatik-Kolloquium
DESCRIPTION:Einführung in Quantenalgorithmen und Post-Quantum Kryptographie
END:VEVENT
END:VCALENDAR