BEGIN:VCALENDAR
VERSION:2.0
CALSCALE:GREGORIAN
BEGIN:VEVENT
DTSTART;TZID=Europe/Berlin:20241217T140000
DTEND;TZID=Europe/Berlin:20241218T000000
SUMMARY:Impulsworkshop Kompetenzmanagement - Erstellung von Kompetenzanforderungsprofilen
DESCRIPTION:Fachkräftemangel umdenken – Mit KI – Assistenzsysteme Einarbeitungs‐ und Ausbildungsprozesse revolutionieren
END:VEVENT
END:VCALENDAR