BEGIN:VCALENDAR
VERSION:2.0
CALSCALE:GREGORIAN
BEGIN:VEVENT
DTSTART;TZID=Europe/Berlin:20240605T130000
DTEND;TZID=Europe/Berlin:20240606T000000
SUMMARY:Hochschulsportfest
DESCRIPTION:Sport\, Spaß und Party auf unserem Zittauer Campus. Neben den traditionellen Turnieren warten auch wieder jede Menge Side Events.
END:VEVENT
END:VCALENDAR