BEGIN:VCALENDAR
VERSION:2.0
CALSCALE:GREGORIAN
BEGIN:VEVENT
DTSTART;TZID=Europe/Berlin:20240325T150000
DTEND;TZID=Europe/Berlin:20240326T000000
SUMMARY:L&amp;T CONNECTS - Hochleistung trifft Hochtemperatur
DESCRIPTION:Einweihung einer einzigartigen Wärmespeicher-Testanlage im Zittauer Kraftwerkslabor
END:VEVENT
END:VCALENDAR