BEGIN:VCALENDAR
VERSION:2.0
CALSCALE:GREGORIAN
BEGIN:VEVENT
DTSTART;TZID=Europe/Berlin:20230111T100000
DTEND;TZID=Europe/Berlin:20230112T000000
SUMMARY:Gründungsworkshop\: Markt und Test
DESCRIPTION:#Markttest #Prototyping #Minimumviableproduct
END:VEVENT
END:VCALENDAR