BEGIN:VCALENDAR
VERSION:2.0
CALSCALE:GREGORIAN
BEGIN:VEVENT
DTSTART;TZID=Europe/Berlin:20230706T090000
DTEND;TZID=Europe/Berlin:20230707T000000
SUMMARY:Gründungsworkshop\: In Kontakt bleiben
DESCRIPTION:#Presse #SocialMedia #Print #ÖA #Communitymanagement
END:VEVENT
END:VCALENDAR