BEGIN:VCALENDAR
VERSION:2.0
CALSCALE:GREGORIAN
BEGIN:VEVENT
DTSTART;TZID=Europe/Berlin:20221202T160000
DTEND;TZID=Europe/Berlin:20221203T000000
SUMMARY:Zittauer Kinderakademie\: Wie kommt man mit Spucke und Kleber Dieben auf die Schliche?
DESCRIPTION:
END:VEVENT
END:VCALENDAR