BEGIN:VCALENDAR
VERSION:2.0
CALSCALE:GREGORIAN
BEGIN:VEVENT
DTSTART;TZID=Europe/Berlin:20220916T160000
DTEND;TZID=Europe/Berlin:20220917T000000
SUMMARY:Görlitzer Kinderakademie\: Warum die Eisenbahn so sicher ist 
DESCRIPTION:
END:VEVENT
END:VCALENDAR