BEGIN:VCALENDAR
VERSION:2.0
CALSCALE:GREGORIAN
BEGIN:VEVENT
DTSTART;TZID=Europe/Berlin:20250124T160000
DTEND;TZID=Europe/Berlin:20250125T000000
SUMMARY:Görlitzer Kinderakademie\: Sonne\, Mond und Sterne und Meteoriten!
DESCRIPTION:
END:VEVENT
END:VCALENDAR