BEGIN:VCALENDAR
VERSION:2.0
CALSCALE:GREGORIAN
BEGIN:VEVENT
DTSTART;TZID=Europe/Berlin:20221007T160000
DTEND;TZID=Europe/Berlin:20221008T000000
SUMMARY:Görlitzer Kinderakademie\: Organisation ist alles – das faszinierende Leben im Ameisenstaat
DESCRIPTION:
END:VEVENT
END:VCALENDAR