BEGIN:VCALENDAR
VERSION:2.0
CALSCALE:GREGORIAN
BEGIN:VEVENT
DTSTART;TZID=Europe/Berlin:20241108T160000
DTEND;TZID=Europe/Berlin:20241109T000000
SUMMARY:Görlitzer Kinderakademie\: Luchs - wer bist du?
DESCRIPTION:Über die Rückkehr der Luchse nach Sachsen
END:VEVENT
END:VCALENDAR