BEGIN:VCALENDAR
VERSION:2.0
CALSCALE:GREGORIAN
BEGIN:VEVENT
DTSTART;TZID=Europe/Berlin:20230609T160000
DTEND;TZID=Europe/Berlin:20230610T000000
SUMMARY:Görlitzer Kinderakademie\: Echt falsch!? Wie entstehen virtuelle Welten?
DESCRIPTION:
END:VEVENT
END:VCALENDAR