BEGIN:VCALENDAR
VERSION:2.0
CALSCALE:GREGORIAN
BEGIN:VEVENT
DTSTART;TZID=Europe/Berlin:20230706T083000
DTEND;TZID=Europe/Berlin:20230707T000000
SUMMARY:»Gleich kracht es!« – Konflikte in der Lehre erkennen und lösen
DESCRIPTION:Das Weiterbildungsangebot thematisiert die Ursachen und Formen von Konflikten und legt den Fokus auf ihre Bewältigung in der Vorlesung\, im Seminar und in Beratungen.
END:VEVENT
END:VCALENDAR