BEGIN:VCALENDAR
VERSION:2.0
CALSCALE:GREGORIAN
BEGIN:VEVENT
DTSTART;TZID=Europe/Berlin:20230515T160000
DTEND;TZID=Europe/Berlin:20230516T000000
SUMMARY:&quot;Generationswechsel&quot; - Treffpunkt Wirtschaft  Weißwasser
DESCRIPTION:﻿Chancen\, Planung\, &amp; Ablauf für Unternehmen und Nachfolger
END:VEVENT
END:VCALENDAR