BEGIN:VCALENDAR
VERSION:2.0
CALSCALE:GREGORIAN
BEGIN:VEVENT
DTSTART;TZID=Europe/Berlin:20221102T110000
DTEND;TZID=Europe/Berlin:20221103T000000
SUMMARY:Trilateraler Dialog\: Deutschland\, Tschechien\, Polen
DESCRIPTION:Trilateraler Dialog\: Deutschland\, Tschechien\, Polen - Ein gemeinsamer\, energiepolitischer Weg in unsicheren Zeiten? Eine Diskussion über die Herausforderungen des Energiesektors im Dreiländereck.
END:VEVENT
END:VCALENDAR