BEGIN:VCALENDAR
VERSION:2.0
CALSCALE:GREGORIAN
BEGIN:VEVENT
DTSTART;TZID=Europe/Berlin:20240605T160000
DTEND;TZID=Europe/Berlin:20240606T000000
SUMMARY:Promotion nach FH-Abschluss
DESCRIPTION:Veranstaltung zum dies academicus am 05.06.2024\, 16.00 Uhr\; Haus GI\, Raum 1.05
END:VEVENT
END:VCALENDAR