BEGIN:VCALENDAR
VERSION:2.0
CALSCALE:GREGORIAN
BEGIN:VEVENT
DTSTART;TZID=Europe/Berlin:20210607T154600
DTEND;TZID=Europe/Berlin:20210612T154700
SUMMARY:Fitnessparcours\: Weinaupark-Challenge
DESCRIPTION:Gesundheits- und Umwelttage 2021
END:VEVENT
END:VCALENDAR