BEGIN:VCALENDAR
VERSION:2.0
CALSCALE:GREGORIAN
BEGIN:VEVENT
DTSTART;TZID=Europe/Berlin:20230524T170000
DTEND;TZID=Europe/Berlin:20230525T000000
SUMMARY:Farben am Umgebindehaus
DESCRIPTION:Vortragsabend zum Thema „Farben am Umgebindehaus“ an der Hochschule Zittau/Görlitz
END:VEVENT
END:VCALENDAR