BEGIN:VCALENDAR
VERSION:2.0
CALSCALE:GREGORIAN
BEGIN:VEVENT
DTSTART;TZID=Europe/Berlin:20221005T173000
DTEND;TZID=Europe/Berlin:20221006T000000
SUMMARY:Eröffnung des Wissenschaftsjahres 2022/23
DESCRIPTION:Die Wärmeversorgung auf dem Prüfstand?
END:VEVENT
END:VCALENDAR