BEGIN:VCALENDAR
VERSION:2.0
CALSCALE:GREGORIAN
BEGIN:VEVENT
DTSTART;TZID=Europe/Berlin:20241106T174500
DTEND;TZID=Europe/Berlin:20241107T000000
SUMMARY:Einladung zum Filmabend zum Film &quot;Cake&quot;
DESCRIPTION:
END:VEVENT
END:VCALENDAR