BEGIN:VCALENDAR
VERSION:2.0
CALSCALE:GREGORIAN
BEGIN:VEVENT
DTSTART;TZID=Europe/Berlin:20250202T093000
DTEND;TZID=Europe/Berlin:20250429T000000
SUMMARY:Digital Workspace (für Lehrende)\: Grundlagen zur Förderung von Digitalen Kompetenzen in der Lehre (2025) 
DESCRIPTION:Wie sieht die Lehre von Morgen aus? Digitalkompetenz und speziell der Umgang mit KI werden unverzichtbar. Der Workspace gibt einen Einblick in die Thematik\, hilft bei der gezielten Auswahl Werkzeugen und zeigt Möglichkeiten zum Transfer.
END:VEVENT
END:VCALENDAR