BEGIN:VCALENDAR
VERSION:2.0
CALSCALE:GREGORIAN
BEGIN:VEVENT
DTSTART;TZID=Europe/Berlin:20250202T093000
DTEND;TZID=Europe/Berlin:20250429T000000
SUMMARY:Digital Workspace (für Lehrende)\: E-Assessments konzipieren und integrieren\: Tipps und Tools für Lehrende
DESCRIPTION:E-Assessments didaktisch zielgerichtet auszulegen und technisch umzusetzen stellt Lehrende nicht selten vor Herausforderungen. Im Workspace erhalten die Teilnehmenden Tipps zur praktischen Umsetzung\, vielfältige praxisorientierte Impulse und Raum zum Ausprobieren.
END:VEVENT
END:VCALENDAR