BEGIN:VCALENDAR
VERSION:2.0
CALSCALE:GREGORIAN
BEGIN:VEVENT
DTSTART;TZID=Europe/Berlin:20231212T180000
DTEND;TZID=Europe/Berlin:20231213T000000
SUMMARY:ABGESAGT\: „Die Dimensionen der Pflege als Wissenschaft“ - Ringvorlesung
DESCRIPTION:Thema\: Menschenzentrierte Assistenzsysteme in der häuslichen Pflege
END:VEVENT
END:VCALENDAR