BEGIN:VCALENDAR
VERSION:2.0
CALSCALE:GREGORIAN
BEGIN:VEVENT
DTSTART;TZID=Europe/Berlin:20250401T180000
DTEND;TZID=Europe/Berlin:20250402T000000
SUMMARY:Abgesagt\: Die Dimensionen der Pflege als Wissenschaft\: Arzneimittel unter der Lupe\: Nutzen\, Risiken und Wechselwirkungen
DESCRIPTION:öffentliche-hybride Ringvorlesung
END:VEVENT
END:VCALENDAR