BEGIN:VCALENDAR
VERSION:2.0
CALSCALE:GREGORIAN
BEGIN:VEVENT
DTSTART;TZID=Europe/Berlin:20230428T150000
DTEND;TZID=Europe/Berlin:20230429T000000
SUMMARY:Zittauer Kinderakademie\: Faszination Fliegen
DESCRIPTION:Zittauer Kinderakademie\: Faszination Fliegen. Prof. Dr.-Ing. Matthias Fichna\, Fakultät Wirtschaftswissenschaften und Wirtschaftsingenieurwesen\, Peter-Dierich-Haus\, Hörsaal 0.02
END:VEVENT
END:VCALENDAR