BEGIN:VCALENDAR
VERSION:2.0
CALSCALE:GREGORIAN
BEGIN:VEVENT
DTSTART;TZID=Europe/Berlin:20250519T103000
DTEND;TZID=Europe/Berlin:20250524T000000
SUMMARY:ACC Forum 2025 is coming!
DESCRIPTION:
END:VEVENT
END:VCALENDAR