BEGIN:VCALENDAR
VERSION:2.0
CALSCALE:GREGORIAN
BEGIN:VEVENT
DTSTART;TZID=Europe/Berlin:20241008T143000
DTEND;TZID=Europe/Berlin:20250122T000000
SUMMARY:Schülervorlesung\: Nachhaltiges Marketing im digitalen Zeitalter
DESCRIPTION:
END:VEVENT
END:VCALENDAR