BEGIN:VCALENDAR
VERSION:2.0
CALSCALE:GREGORIAN
BEGIN:VEVENT
DTSTART;TZID=Europe/Berlin:20240827T180000
DTEND;TZID=Europe/Berlin:20240828T000000
SUMMARY:CO2 - kleines Molekül\, große Wirkung!
DESCRIPTION:Vortragsabend mit Musik und anschließender Besichtigung des Naturfaserforschungszentrums.
END:VEVENT
END:VCALENDAR