BEGIN:VCALENDAR
VERSION:2.0
CALSCALE:GREGORIAN
BEGIN:VEVENT
DTSTART;TZID=Europe/Berlin:20231120T180000
DTEND;TZID=Europe/Berlin:20231121T000000
SUMMARY:1. Chemie-Schülerakademie zum Thema\: Nanotechnologie – Das ganz Kleine mit großer Wirkung
DESCRIPTION:
END:VEVENT
END:VCALENDAR