BEGIN:VCALENDAR
VERSION:2.0
CALSCALE:GREGORIAN
BEGIN:VEVENT
DTSTART;TZID=Europe/Berlin:20221212T170000
DTEND;TZID=Europe/Berlin:20221213T000000
SUMMARY:Chemie - Schauvorlesung
DESCRIPTION:Langersehntes Highlight kann endlich wieder stattfinden
END:VEVENT
END:VCALENDAR