BEGIN:VCALENDAR
VERSION:2.0
CALSCALE:GREGORIAN
BEGIN:VEVENT
DTSTART;TZID=Europe/Berlin:20241023T143000
DTEND;TZID=Europe/Berlin:20241024T000000
SUMMARY:CampusKompass\: Gremienarbeit und Hochschulpraxis
DESCRIPTION:Teil 1\: Einführung in Hochschulstrukturen und -politik 
END:VEVENT
END:VCALENDAR