BEGIN:VCALENDAR
VERSION:2.0
CALSCALE:GREGORIAN
BEGIN:VEVENT
DTSTART;TZID=Europe/Berlin:20200317T180000
DTEND;TZID=Europe/Berlin:20200319T190000
SUMMARY:[ABGESAGT] Bürger trifft Wissenschaft - auf ein Bier mit der Forscherin
DESCRIPTION:Veranstaltung an der Fakultät Wirtschaftswissenschaften und Wirtschaftsingenieurwesen am 17.03.2020 in Zittau
END:VEVENT
END:VCALENDAR