BEGIN:VCALENDAR
VERSION:2.0
CALSCALE:GREGORIAN
BEGIN:VEVENT
DTSTART;TZID=Europe/Berlin:20221206T170000
DTEND;TZID=Europe/Berlin:20221207T000000
SUMMARY:Beteiligungsworkshops für den Klimaschutz (online)
DESCRIPTION:Das KlimaschutzTeam führt einen Beteiligungsworkshop online durch. Alle Hochschulangehörigen sind herzlich eingeladen.
END:VEVENT
END:VCALENDAR