BEGIN:VCALENDAR
VERSION:2.0
CALSCALE:GREGORIAN
BEGIN:VEVENT
DTSTART;TZID=Europe/Berlin:20221111T114500
DTEND;TZID=Europe/Berlin:20221112T000000
SUMMARY:Austausch Digitale Lehre
DESCRIPTION:Kollegialer Austausch der Lehrenden zu digitalen Tools &amp; der didaktischen Gestaltung der Lehre
END:VEVENT
END:VCALENDAR