BEGIN:VCALENDAR
VERSION:2.0
CALSCALE:GREGORIAN
BEGIN:VEVENT
DTSTART;TZID=Europe/Berlin:20221014T114500
DTEND;TZID=Europe/Berlin:20221015T000000
SUMMARY:1. Austausch Digitale Lehre HSZG
DESCRIPTION:14-tägiger kollegialer Austausch der Lehrenden zu digitalen Tools &amp; der didaktischen Gestaltung der Lehre
END:VEVENT
END:VCALENDAR