BEGIN:VCALENDAR
VERSION:2.0
CALSCALE:GREGORIAN
BEGIN:VEVENT
DTSTART;TZID=Europe/Berlin:20230428T114500
DTEND;TZID=Europe/Berlin:20230501T000000
SUMMARY:Austausch Digitale Lehre\: Augmented Reality im Labor
DESCRIPTION:
END:VEVENT
END:VCALENDAR