BEGIN:VCALENDAR
VERSION:2.0
CALSCALE:GREGORIAN
BEGIN:VEVENT
DTSTART;TZID=Europe/Berlin:20221012T161500
DTEND;TZID=Europe/Berlin:20221013T000000
SUMMARY:SeniorenKolleg\: AKTUELLE ENTWICKLUNGEN IN DER LUFTFAHRT WIE SOLLEN DIE KLIMAZIELE ERREICHT WERDEN? Dipl.-Ing. Nobert Kalz\, Fakultät Wirtschaftswissenschaften
DESCRIPTION:AKTUELLE ENTWICKLUNGEN IN DER LUFTFAHRT WIE SOLLEN DIE KLIMAZIELE ERREICHT WERDEN?Dipl.-Ing. Nobert Kalz\, vorm. Fakultät Wirtschaftswissenschaften. Seniorenkolleg\, Mittwoch\, 12.10.\, 16\:15 Uhr\, Görlitz\, Furtstraße 2\, Hermann-Heitkamp-Haus\, Hörsaal G I / 1.01
END:VEVENT
END:VCALENDAR