BEGIN:VCALENDAR
VERSION:2.0
CALSCALE:GREGORIAN
BEGIN:VEVENT
DTSTART;TZID=Europe/Berlin:20241104T094500
DTEND;TZID=Europe/Berlin:20241105T000000
SUMMARY:33. Energieseminar 
DESCRIPTION:Abwärmenutzung in der Wärmeversorgung
END:VEVENT
END:VCALENDAR