BEGIN:VCALENDAR
VERSION:2.0
CALSCALE:GREGORIAN
BEGIN:VEVENT
DTSTART;TZID=Europe/Berlin:20240316T093000
DTEND;TZID=Europe/Berlin:20240317T000000
SUMMARY:30. Internationale Elektrotechnik-Olympiade &quot;NEISSE-ELEKTRO&quot;
DESCRIPTION:Zum bereits 30. Mal findet die Neisse-Elektro als Olympiade für die Elektrotechnik statt. Auch in diesem Jahr sind jeweils zwanzig Schülerinnen und Schüler aus Polen\, Tschechien und Deutschland aufgerufen\, sich dem Wettstreit im Bereich MINT zu stellen.
END:VEVENT
END:VCALENDAR