BEGIN:VCALENDAR
VERSION:2.0
CALSCALE:GREGORIAN
BEGIN:VEVENT
DTSTART;TZID=Europe/Berlin:20231021T193000
DTEND;TZID=Europe/Berlin:20231022T000000
SUMMARY:12. Zittauer Kulturnacht\: Schwarze Romantik und das elektrische Herz 
DESCRIPTION:Die HSZG ist in diesem Jahr wieder bei der 12. Zittauer Kulturnacht am 21.10.2023 mit einem Programm dabei. 
END:VEVENT
END:VCALENDAR