BEGIN:VCALENDAR
VERSION:2.0
CALSCALE:GREGORIAN
BEGIN:VEVENT
DTSTART;TZID=Europe/Berlin:20230628T150000
DTEND;TZID=Europe/Berlin:20230629T000000
SUMMARY:ZUKUNFTSRÄUME - Ein Festival voller Kreativität und Party erwartet dich!
DESCRIPTION:
END:VEVENT
END:VCALENDAR