BEGIN:VCALENDAR
VERSION:2.0
CALSCALE:GREGORIAN
BEGIN:VEVENT
DTSTART;TZID=Europe/Berlin:20180618T093000
DTEND;TZID=Europe/Berlin:20180618T093000
SUMMARY:Workshop „Regionale Identitäten“
DESCRIPTION:Regionale Marketing- und Entwicklungskonzepte weiterentwickeln zur Schärfung und Stärkung regionaler Identitäten.
END:VEVENT
END:VCALENDAR