BEGIN:VCALENDAR
VERSION:2.0
CALSCALE:GREGORIAN
BEGIN:VEVENT
DTSTART;TZID=Europe/Berlin:20230918T100000
DTEND;TZID=Europe/Berlin:20230919T000000
SUMMARY:Workshop on E-Learning 2023 
DESCRIPTION:An der HTWK in Leipzig (in Kooperation mit der HSZG) 
END:VEVENT
END:VCALENDAR