BEGIN:VCALENDAR
VERSION:2.0
CALSCALE:GREGORIAN
BEGIN:VEVENT
DTSTART;TZID=Europe/Berlin:20241121T140000
DTEND;TZID=Europe/Berlin:20241123T000000
SUMMARY:Workshop Geschäftsideenentwicklung
DESCRIPTION:Geschäftsideenentwicklung mit Design Thinking\: Wie finde ich eine Geschäftsidee\, die funktioniert?
END:VEVENT
END:VCALENDAR