BEGIN:VCALENDAR
VERSION:2.0
CALSCALE:GREGORIAN
BEGIN:VEVENT
DTSTART;TZID=Europe/Berlin:20241126T120000
DTEND;TZID=Europe/Berlin:20241127T000000
SUMMARY:Workshop „Future Skills für die Halbleiterindustrie\: Konzeption des Kompetenzprofils der Absolvent\:innen von Morgen&quot;
DESCRIPTION:
END:VEVENT
END:VCALENDAR