BEGIN:VCALENDAR
VERSION:2.0
CALSCALE:GREGORIAN
BEGIN:VEVENT
DTSTART;TZID=Europe/Berlin:20230512T140000
DTEND;TZID=Europe/Berlin:20230514T000000
SUMMARY:Workshop Changemanagement
DESCRIPTION:Begleiten Sie den Veränderungsprozess einer Unternehmensnachfolge und lernen Sie wie bewegungsorientierte Veränderungsprozesse erfolgreich gestaltet werden können.
END:VEVENT
END:VCALENDAR