BEGIN:VCALENDAR
VERSION:2.0
CALSCALE:GREGORIAN
BEGIN:VEVENT
DTSTART;TZID=Europe/Berlin:20241010T130000
DTEND;TZID=Europe/Berlin:20241011T000000
SUMMARY:Online Workshop\: Bewerben\, aber richtig 
DESCRIPTION:Ein Leitfaden für eine erfolgreiche Bewerbung.
END:VEVENT
END:VCALENDAR