BEGIN:VCALENDAR
VERSION:2.0
CALSCALE:GREGORIAN
BEGIN:VEVENT
DTSTART;TZID=Europe/Berlin:20250107T150000
DTEND;TZID=Europe/Berlin:20250108T000000
SUMMARY:Workshop\: Bewerben\, aber richtig
DESCRIPTION:Ein Leitfaden für eine erfolgreiche Bewerbung.
END:VEVENT
END:VCALENDAR