BEGIN:VCALENDAR
VERSION:2.0
CALSCALE:GREGORIAN
BEGIN:VEVENT
DTSTART;TZID=Europe/Berlin:20221123T190000
DTEND;TZID=Europe/Berlin:20221124T000000
SUMMARY:Wissen macht Blau!
DESCRIPTION:Es findet ein neues &quot;Wissen macht Blau!&quot; im Emil (Mandauer Berg 13\, 02763 Zittau) statt. 
END:VEVENT
END:VCALENDAR